BEGIN:VCALENDAR
VERSION:2.0
PRODID:-//DIE LINKE Nordwestmecklenburg - ECPv6.15.17.1//NONSGML v1.0//EN
CALSCALE:GREGORIAN
METHOD:PUBLISH
X-WR-CALNAME:DIE LINKE Nordwestmecklenburg
X-ORIGINAL-URL:https://die-linke-nwm.de
X-WR-CALDESC:Veranstaltungen für DIE LINKE Nordwestmecklenburg
REFRESH-INTERVAL;VALUE=DURATION:PT1H
X-Robots-Tag:noindex
X-PUBLISHED-TTL:PT1H
BEGIN:VTIMEZONE
TZID:Europe/Berlin
BEGIN:DAYLIGHT
TZOFFSETFROM:+0100
TZOFFSETTO:+0200
TZNAME:CEST
DTSTART:20250330T010000
END:DAYLIGHT
BEGIN:STANDARD
TZOFFSETFROM:+0200
TZOFFSETTO:+0100
TZNAME:CET
DTSTART:20251026T010000
END:STANDARD
BEGIN:DAYLIGHT
TZOFFSETFROM:+0100
TZOFFSETTO:+0200
TZNAME:CEST
DTSTART:20260329T010000
END:DAYLIGHT
BEGIN:STANDARD
TZOFFSETFROM:+0200
TZOFFSETTO:+0100
TZNAME:CET
DTSTART:20261025T010000
END:STANDARD
BEGIN:DAYLIGHT
TZOFFSETFROM:+0100
TZOFFSETTO:+0200
TZNAME:CEST
DTSTART:20270328T010000
END:DAYLIGHT
BEGIN:STANDARD
TZOFFSETFROM:+0200
TZOFFSETTO:+0100
TZNAME:CET
DTSTART:20271031T010000
END:STANDARD
END:VTIMEZONE
BEGIN:VEVENT
DTSTART;TZID=Europe/Berlin:20260322T130000
DTEND;TZID=Europe/Berlin:20260322T170000
DTSTAMP:20260419T163655
CREATED:20260318T094234Z
LAST-MODIFIED:20260318T152659Z
UID:4372-1774184400-1774198800@die-linke-nwm.de
SUMMARY:Einstehen für Unsere Demokratie!
DESCRIPTION:Wismar Für Alle!\nKundgebung und anschließende Demo zum Friedhof – Im Gedenken an die März Gefallenen des Kapp Putsches im Jahr 1920.
URL:https://die-linke-nwm.de/event/einstehen-fuer-unsere-demokratie/
END:VEVENT
END:VCALENDAR