BEGIN:VCALENDAR
VERSION:2.0
PRODID:-//DIE LINKE Nordwestmecklenburg - ECPv6.15.17.1//NONSGML v1.0//EN
CALSCALE:GREGORIAN
METHOD:PUBLISH
X-WR-CALNAME:DIE LINKE Nordwestmecklenburg
X-ORIGINAL-URL:https://die-linke-nwm.de
X-WR-CALDESC:Veranstaltungen für DIE LINKE Nordwestmecklenburg
REFRESH-INTERVAL;VALUE=DURATION:PT1H
X-Robots-Tag:noindex
X-PUBLISHED-TTL:PT1H
BEGIN:VTIMEZONE
TZID:Europe/Berlin
BEGIN:DAYLIGHT
TZOFFSETFROM:+0100
TZOFFSETTO:+0200
TZNAME:CEST
DTSTART:20250330T010000
END:DAYLIGHT
BEGIN:STANDARD
TZOFFSETFROM:+0200
TZOFFSETTO:+0100
TZNAME:CET
DTSTART:20251026T010000
END:STANDARD
BEGIN:DAYLIGHT
TZOFFSETFROM:+0100
TZOFFSETTO:+0200
TZNAME:CEST
DTSTART:20260329T010000
END:DAYLIGHT
BEGIN:STANDARD
TZOFFSETFROM:+0200
TZOFFSETTO:+0100
TZNAME:CET
DTSTART:20261025T010000
END:STANDARD
BEGIN:DAYLIGHT
TZOFFSETFROM:+0100
TZOFFSETTO:+0200
TZNAME:CEST
DTSTART:20270328T010000
END:DAYLIGHT
BEGIN:STANDARD
TZOFFSETFROM:+0200
TZOFFSETTO:+0100
TZNAME:CET
DTSTART:20271031T010000
END:STANDARD
END:VTIMEZONE
BEGIN:VEVENT
DTSTART;TZID=Europe/Berlin:20260124T100000
DTEND;TZID=Europe/Berlin:20260124T140000
DTSTAMP:20260421T155735
CREATED:20260114T160312Z
LAST-MODIFIED:20260114T160312Z
UID:4276-1769248800-1769263200@die-linke-nwm.de
SUMMARY:Programmkonferenz in Güstrow
DESCRIPTION:Am 24. Januar möchten wir im Rahmen einer Programmkonferenz Vereine\, Verbände\, Gewerkschaften sowie weitere NGOs einladen\, um ihre Erwartungen an uns und an die Landtagswahl zu formulieren. \nLiebe Genoss*innen\, \nhinter uns liegt ein ereignisreiches und erfolgreiches Jahr. Nachdem Die Linke von vielen bereits abgeschrieben worden war\, ist uns mit der Bundestagswahl ein großer Erfolg gelungen. Darüber hinaus konnten wir mehr als 1.250 neue Mitglieder begrüßen und zählen heute 3.450 Genoss*innen in unserem Landesverband. \nUnser Landesparteitag im November hat wichtige politische Weichenstellungen vorgenommen – zur Wehrpflicht\, zu den Angriffen auf den Sozialstaat und zum fortschreitenden Rechtsruck. Vor allem aber war er ein deutliches Zeichen von Geschlossenheit\, Zuversicht und Aufbruch. \nMit diesen Erfolgen im Rücken starten wir im neuen Jahr in den Landtagswahlkampf. Die Bedeutung der Landtagswahl kann für uns kaum hoch genug eingeschätzt werden. Deshalb beginnen wir bereits im Januar mit unserem Programmprozess. \nAm 24. Januar möchten wir im Rahmen einer Programmkonferenz Vereine\, Verbände\, Gewerkschaften sowie weitere NGOs einladen\, um ihre Erwartungen an uns und an die Landtagswahl zu formulieren. Zu dieser Programmkonferenz laden wir euch herzlich ein. \nBitte merkt euch den Termin bereits vor. Ein detailliertes Programm werden wir euch im Januar rechtzeitig zusenden. \nDer Programmprozess wird im März mit einer Basiskonferenz fortgesetzt\, bei der wir insbesondere die Rückmeldungen aus der Mitgliedschaft sammeln und strukturieren wollen. Im Mai wird schließlich der Landesparteitag unser Wahlprogramm für die Landtagswahl 2026 beschließen. \nIch freue mich auf einen engagierten und kraftvollen Wahlkampf im kommenden Jahr und bin überzeugt\, dass er dank des großen Tatendrangs unserer Mitglieder ein voller Erfolg wird. Bis dahin wünsche ich uns allen erholsame Weihnachtsfeiertage und einen guten Start ins neue Jahr.
URL:https://die-linke-nwm.de/event/programmkonferenz-in-guestrow/
LOCATION:Bürgerhaus Güstrow\, Sonnenplatz 1\, Güstrow\, 18273
END:VEVENT
END:VCALENDAR